Package: rScudo Version: 1.23.0 Command: /Library/Frameworks/R.framework/Resources/bin/R CMD build --keep-empty-dirs --no-resave-data rScudo StartedAt: 2025-02-09 17:27:47 -0500 (Sun, 09 Feb 2025) EndedAt: 2025-02-09 17:28:27 -0500 (Sun, 09 Feb 2025) EllapsedTime: 40.5 seconds RetCode: 0 Status: OK PackageFile: rScudo_1.23.0.tar.gz PackageFileSize: 868.1 KiB