Package: rScudo Version: 1.23.0 Command: /home/biocbuild/R/R/bin/R CMD build --keep-empty-dirs --no-resave-data rScudo StartedAt: 2025-01-29 01:52:10 -0000 (Wed, 29 Jan 2025) EndedAt: 2025-01-29 01:54:37 -0000 (Wed, 29 Jan 2025) EllapsedTime: 147.1 seconds RetCode: 0 Status: OK PackageFile: rScudo_1.23.0.tar.gz PackageFileSize: 592.6 KiB