Package: rScudo Version: 1.23.0 Command: /home/biocbuild/R/R/bin/R CMD check --install=check:rScudo.install-out.txt --library=/home/biocbuild/R/R/site-library --no-vignettes --timings rScudo_1.23.0.tar.gz StartedAt: 2025-01-28 14:46:00 -0000 (Tue, 28 Jan 2025) EndedAt: 2025-01-28 14:46:43 -0000 (Tue, 28 Jan 2025) EllapsedTime: 43.0 seconds RetCode: 0 Status: OK CheckDir: rScudo.Rcheck Warnings: 0