Package: rScudo Version: 1.23.0 Command: /Library/Frameworks/R.framework/Resources/bin/R CMD check --install=check:rScudo.install-out.txt --library=/Library/Frameworks/R.framework/Resources/library --no-vignettes --timings rScudo_1.23.0.tar.gz StartedAt: 2025-02-09 23:15:05 -0500 (Sun, 09 Feb 2025) EndedAt: 2025-02-09 23:16:19 -0500 (Sun, 09 Feb 2025) EllapsedTime: 73.9 seconds RetCode: 0 Status: OK CheckDir: rScudo.Rcheck Warnings: 0