Package: rScudo Version: 1.23.0 Command: /Library/Frameworks/R.framework/Resources/bin/R CMD INSTALL rScudo StartedAt: 2025-02-09 15:10:39 -0500 (Sun, 09 Feb 2025) EndedAt: 2025-02-09 15:10:44 -0500 (Sun, 09 Feb 2025) EllapsedTime: 4.6 seconds RetCode: 0 Status: OK