Package: rScudo Version: 1.23.0 Command: /home/biocbuild/bbs-3.21-bioc/R/bin/R CMD build --keep-empty-dirs --no-resave-data rScudo StartedAt: 2025-02-09 19:01:16 -0500 (Sun, 09 Feb 2025) EndedAt: 2025-02-09 19:02:52 -0500 (Sun, 09 Feb 2025) EllapsedTime: 96.2 seconds RetCode: 0 Status: OK PackageFile: rScudo_1.23.0.tar.gz PackageFileSize: 772.7 KiB