Package: rScudo Version: 1.23.0 Command: rm -rf rScudo.buildbin-libdir && mkdir rScudo.buildbin-libdir && E:\biocbuild\bbs-3.21-bioc\R\bin\R.exe CMD INSTALL --build --library=rScudo.buildbin-libdir rScudo_1.23.0.tar.gz StartedAt: 2025-02-10 08:36:03 -0500 (Mon, 10 Feb 2025) EndedAt: 2025-02-10 08:36:10 -0500 (Mon, 10 Feb 2025) EllapsedTime: 6.7 seconds RetCode: 0 Status: OK PackageFile: rScudo_1.23.0.zip PackageFileSize: 586.7 KiB