Package: rScudo Version: 1.23.0 Command: chmod a+r rScudo -R && E:\biocbuild\bbs-3.21-bioc\R\bin\R.exe CMD build --keep-empty-dirs --no-resave-data rScudo StartedAt: 2025-02-09 21:18:26 -0500 (Sun, 09 Feb 2025) EndedAt: 2025-02-09 21:20:32 -0500 (Sun, 09 Feb 2025) EllapsedTime: 125.9 seconds RetCode: 0 Status: OK PackageFile: rScudo_1.23.0.tar.gz PackageFileSize: 388 KiB