Package: rScudo Version: 1.23.0 Command: E:\biocbuild\bbs-3.21-bioc\R\bin\R.exe CMD check --no-multiarch --install=check:rScudo.install-out.txt --library=E:\biocbuild\bbs-3.21-bioc\R\library --no-vignettes --timings rScudo_1.23.0.tar.gz StartedAt: 2025-02-10 04:54:40 -0500 (Mon, 10 Feb 2025) EndedAt: 2025-02-10 04:55:32 -0500 (Mon, 10 Feb 2025) EllapsedTime: 52.3 seconds RetCode: 0 Status: OK CheckDir: rScudo.Rcheck Warnings: 0