Package: rTRM Version: 1.45.0 Command: /Library/Frameworks/R.framework/Resources/bin/R CMD check --install=check:rTRM.install-out.txt --library=/Library/Frameworks/R.framework/Resources/library --no-vignettes --timings rTRM_1.45.0.tar.gz StartedAt: 2025-02-09 21:06:13 -0500 (Sun, 09 Feb 2025) EndedAt: 2025-02-09 21:06:56 -0500 (Sun, 09 Feb 2025) EllapsedTime: 42.5 seconds RetCode: 0 Status: OK CheckDir: rTRM.Rcheck Warnings: 0