Package: rTRM Version: 1.45.0 Command: /Library/Frameworks/R.framework/Resources/bin/R CMD INSTALL rTRM StartedAt: 2025-02-09 15:15:06 -0500 (Sun, 09 Feb 2025) EndedAt: 2025-02-09 15:15:29 -0500 (Sun, 09 Feb 2025) EllapsedTime: 22.4 seconds RetCode: 0 Status: OK