Package: rTRM Version: 1.45.0 Command: /home/biocbuild/bbs-3.21-bioc/R/bin/R CMD INSTALL rTRM StartedAt: 2025-02-09 15:24:52 -0500 (Sun, 09 Feb 2025) EndedAt: 2025-02-09 15:25:09 -0500 (Sun, 09 Feb 2025) EllapsedTime: 16.8 seconds RetCode: 0 Status: OK