Package: rTRM Version: 1.45.0 Command: rm -rf rTRM.buildbin-libdir && mkdir rTRM.buildbin-libdir && E:\biocbuild\bbs-3.21-bioc\R\bin\R.exe CMD INSTALL --build --library=rTRM.buildbin-libdir rTRM_1.45.0.tar.gz StartedAt: 2025-02-10 08:36:30 -0500 (Mon, 10 Feb 2025) EndedAt: 2025-02-10 08:36:53 -0500 (Mon, 10 Feb 2025) EllapsedTime: 23.0 seconds RetCode: 0 Status: OK PackageFile: rTRM_1.45.0.zip PackageFileSize: 3.122 MiB