Package: rTRM Version: 1.45.0 Command: chmod a+r rTRM -R && E:\biocbuild\bbs-3.21-bioc\R\bin\R.exe CMD build --keep-empty-dirs --no-resave-data rTRM StartedAt: 2025-02-09 21:19:56 -0500 (Sun, 09 Feb 2025) EndedAt: 2025-02-09 21:21:19 -0500 (Sun, 09 Feb 2025) EllapsedTime: 82.4 seconds RetCode: 0 Status: OK PackageFile: rTRM_1.45.0.tar.gz PackageFileSize: 3.171 MiB