Package: raer Version: 1.5.0 Command: rm -rf raer.buildbin-libdir && mkdir raer.buildbin-libdir && /Users/biocbuild/BBS/utils/build-universal.sh raer_1.5.0.tar.gz /Library/Frameworks/R.framework/Resources/bin/R raer.buildbin-libdir StartedAt: 2025-02-09 22:26:27 -0500 (Sun, 09 Feb 2025) EndedAt: 2025-02-09 22:26:49 -0500 (Sun, 09 Feb 2025) EllapsedTime: 21.5 seconds RetCode: 0 Status: OK PackageFile: raer_1.5.0.tgz PackageFileSize: 3.247 MiB