Package: raer Version: 1.5.0 Command: /Library/Frameworks/R.framework/Resources/bin/R CMD build --keep-empty-dirs --no-resave-data raer StartedAt: 2025-02-09 17:19:50 -0500 (Sun, 09 Feb 2025) EndedAt: 2025-02-09 17:22:59 -0500 (Sun, 09 Feb 2025) EllapsedTime: 189.2 seconds RetCode: 0 Status: OK PackageFile: raer_1.5.0.tar.gz PackageFileSize: 2.463 MiB