Package: raer Version: 1.5.0 Command: /home/biocbuild/R/R/bin/R CMD build --keep-empty-dirs --no-resave-data raer StartedAt: 2025-01-29 01:28:53 -0000 (Wed, 29 Jan 2025) EndedAt: 2025-01-29 01:39:42 -0000 (Wed, 29 Jan 2025) EllapsedTime: 649.3 seconds RetCode: 0 Status: OK PackageFile: raer_1.5.0.tar.gz PackageFileSize: 1.576 MiB