Package: raer Version: 1.5.0 Command: rm -rf raer.buildbin-libdir && mkdir raer.buildbin-libdir && /Users/biocbuild/BBS/utils/build-universal.sh raer_1.5.0.tar.gz /Library/Frameworks/R.framework/Resources/bin/R raer.buildbin-libdir StartedAt: 2025-02-10 01:10:13 -0500 (Mon, 10 Feb 2025) EndedAt: 2025-02-10 01:11:25 -0500 (Mon, 10 Feb 2025) EllapsedTime: 71.3 seconds RetCode: 0 Status: OK PackageFile: raer_1.5.0.tgz PackageFileSize: 3.272 MiB