Package: raer Version: 1.5.0 Command: /Library/Frameworks/R.framework/Resources/bin/R CMD INSTALL raer StartedAt: 2025-02-09 15:19:50 -0500 (Sun, 09 Feb 2025) EndedAt: 2025-02-09 15:20:54 -0500 (Sun, 09 Feb 2025) EllapsedTime: 64.4 seconds RetCode: 0 Status: OK