Package: raer Version: 1.5.0 Command: /home/biocbuild/bbs-3.21-bioc/R/bin/R CMD build --keep-empty-dirs --no-resave-data raer StartedAt: 2025-02-04 18:45:47 -0500 (Tue, 04 Feb 2025) EndedAt: 2025-02-04 18:52:37 -0500 (Tue, 04 Feb 2025) EllapsedTime: 410.5 seconds RetCode: 0 Status: OK PackageFile: raer_1.5.0.tar.gz PackageFileSize: 2.378 MiB