Package: raer Version: 1.5.0 Command: rm -rf raer.buildbin-libdir && mkdir raer.buildbin-libdir && E:\biocbuild\bbs-3.21-bioc\R\bin\R.exe CMD INSTALL --build --library=raer.buildbin-libdir raer_1.5.0.tar.gz StartedAt: 2025-02-10 08:27:56 -0500 (Mon, 10 Feb 2025) EndedAt: 2025-02-10 08:29:11 -0500 (Mon, 10 Feb 2025) EllapsedTime: 75.1 seconds RetCode: 0 Status: OK PackageFile: raer_1.5.0.zip PackageFileSize: 6.47 MiB