Package: raer Version: 1.5.0 Command: E:\biocbuild\bbs-3.21-bioc\R\bin\R.exe CMD INSTALL raer StartedAt: 2025-02-09 16:36:43 -0500 (Sun, 09 Feb 2025) EndedAt: 2025-02-09 16:37:52 -0500 (Sun, 09 Feb 2025) EllapsedTime: 68.1 seconds RetCode: 0 Status: OK