Package: ramwas Version: 1.31.0 Command: /Library/Frameworks/R.framework/Resources/bin/R CMD build --keep-empty-dirs --no-resave-data ramwas StartedAt: 2025-02-04 17:20:18 -0500 (Tue, 04 Feb 2025) EndedAt: 2025-02-04 17:22:06 -0500 (Tue, 04 Feb 2025) EllapsedTime: 108.2 seconds RetCode: 0 Status: OK PackageFile: ramwas_1.31.0.tar.gz PackageFileSize: 3.239 MiB