Package: ramwas Version: 1.31.0 Command: /home/biocbuild/R/R/bin/R CMD build --keep-empty-dirs --no-resave-data ramwas StartedAt: 2025-01-29 01:30:04 -0000 (Wed, 29 Jan 2025) EndedAt: 2025-01-29 01:35:41 -0000 (Wed, 29 Jan 2025) EllapsedTime: 337.2 seconds RetCode: 0 Status: OK PackageFile: ramwas_1.31.0.tar.gz PackageFileSize: 2.505 MiB