Package: ramwas Version: 1.31.0 Command: /home/biocbuild/R/R/bin/R CMD INSTALL ramwas StartedAt: 2025-01-29 20:15:13 -0000 (Wed, 29 Jan 2025) EndedAt: 2025-01-29 20:16:00 -0000 (Wed, 29 Jan 2025) EllapsedTime: 47.0 seconds RetCode: 0 Status: OK