Package: ramwas Version: 1.31.0 Command: rm -rf ramwas.buildbin-libdir && mkdir ramwas.buildbin-libdir && /Users/biocbuild/BBS/utils/build-universal.sh ramwas_1.31.0.tar.gz /Library/Frameworks/R.framework/Resources/bin/R ramwas.buildbin-libdir StartedAt: 2025-02-05 00:56:23 -0500 (Wed, 05 Feb 2025) EndedAt: 2025-02-05 00:57:14 -0500 (Wed, 05 Feb 2025) EllapsedTime: 51.1 seconds RetCode: 0 Status: OK PackageFile: ramwas_1.31.0.tgz PackageFileSize: 3.652 MiB