Package: ramwas Version: 1.31.0 Command: /Library/Frameworks/R.framework/Resources/bin/R CMD INSTALL ramwas StartedAt: 2025-02-04 15:30:28 -0500 (Tue, 04 Feb 2025) EndedAt: 2025-02-04 15:31:15 -0500 (Tue, 04 Feb 2025) EllapsedTime: 46.5 seconds RetCode: 0 Status: OK