Package: ramwas Version: 1.31.0 Command: /home/biocbuild/bbs-3.21-bioc/R/bin/R CMD INSTALL ramwas StartedAt: 2025-02-09 15:32:13 -0500 (Sun, 09 Feb 2025) EndedAt: 2025-02-09 15:32:48 -0500 (Sun, 09 Feb 2025) EllapsedTime: 34.8 seconds RetCode: 0 Status: OK