Package: ramwas Version: 1.31.0 Command: chmod a+r ramwas -R && E:\biocbuild\bbs-3.21-bioc\R\bin\R.exe CMD build --keep-empty-dirs --no-resave-data ramwas StartedAt: 2025-02-09 20:59:49 -0500 (Sun, 09 Feb 2025) EndedAt: 2025-02-09 21:08:17 -0500 (Sun, 09 Feb 2025) EllapsedTime: 508.0 seconds RetCode: 0 Status: OK PackageFile: ramwas_1.31.0.tar.gz PackageFileSize: 2.078 MiB