Package: ramwas Version: 1.31.0 Command: E:\biocbuild\bbs-3.21-bioc\R\bin\R.exe CMD INSTALL ramwas StartedAt: 2025-02-12 16:09:33 -0500 (Wed, 12 Feb 2025) EndedAt: 2025-02-12 16:10:32 -0500 (Wed, 12 Feb 2025) EllapsedTime: 59.0 seconds RetCode: 0 Status: OK