Package: randRotation Version: 1.19.0 Command: /Library/Frameworks/R.framework/Resources/bin/R CMD build --keep-empty-dirs --no-resave-data randRotation StartedAt: 2025-02-09 17:20:09 -0500 (Sun, 09 Feb 2025) EndedAt: 2025-02-09 17:20:49 -0500 (Sun, 09 Feb 2025) EllapsedTime: 39.5 seconds RetCode: 1 Status: ERROR PackageFile: None PackageFileSize: NA