Package: randRotation Version: 1.19.0 Command: /home/biocbuild/R/R/bin/R CMD check --install=check:randRotation.install-out.txt --library=/home/biocbuild/R/R/site-library --no-vignettes --timings randRotation_1.19.0.tar.gz StartedAt: 2025-01-28 14:18:41 -0000 (Tue, 28 Jan 2025) EndedAt: 2025-01-28 14:19:33 -0000 (Tue, 28 Jan 2025) EllapsedTime: 52.1 seconds RetCode: 1 Status: ERROR CheckDir: randRotation.Rcheck Warnings: NA