Package: randRotation Version: 1.19.0 Command: /home/biocbuild/bbs-3.21-bioc/R/bin/R CMD build --keep-empty-dirs --no-resave-data randRotation StartedAt: 2025-02-09 18:48:49 -0500 (Sun, 09 Feb 2025) EndedAt: 2025-02-09 18:50:38 -0500 (Sun, 09 Feb 2025) EllapsedTime: 109.1 seconds RetCode: 0 Status: OK PackageFile: randRotation_1.19.0.tar.gz PackageFileSize: 974.1 KiB