Package: randRotation Version: 1.19.0 Command: /home/biocbuild/bbs-3.21-bioc/R/bin/R CMD check --install=check:randRotation.install-out.txt --library=/home/biocbuild/bbs-3.21-bioc/R/site-library --timings randRotation_1.19.0.tar.gz StartedAt: 2025-02-13 01:41:15 -0500 (Thu, 13 Feb 2025) EndedAt: 2025-02-13 01:43:49 -0500 (Thu, 13 Feb 2025) EllapsedTime: 154.2 seconds RetCode: 0 Status: OK CheckDir: randRotation.Rcheck Warnings: 0