Package: randRotation Version: 1.19.0 Command: /home/biocbuild/bbs-3.21-bioc/R/bin/R CMD INSTALL randRotation StartedAt: 2025-02-09 15:04:13 -0500 (Sun, 09 Feb 2025) EndedAt: 2025-02-09 15:04:33 -0500 (Sun, 09 Feb 2025) EllapsedTime: 19.9 seconds RetCode: 0 Status: OK