Package: randRotation Version: 1.19.0 Command: rm -rf randRotation.buildbin-libdir && mkdir randRotation.buildbin-libdir && E:\biocbuild\bbs-3.21-bioc\R\bin\R.exe CMD INSTALL --build --library=randRotation.buildbin-libdir randRotation_1.19.0.tar.gz StartedAt: 2025-02-10 08:28:23 -0500 (Mon, 10 Feb 2025) EndedAt: 2025-02-10 08:28:59 -0500 (Mon, 10 Feb 2025) EllapsedTime: 35.8 seconds RetCode: 0 Status: OK PackageFile: randRotation_1.19.0.zip PackageFileSize: 1.129 MiB