Package: randRotation Version: 1.19.0 Command: E:\biocbuild\bbs-3.21-bioc\R\bin\R.exe CMD INSTALL randRotation StartedAt: 2025-02-09 15:27:00 -0500 (Sun, 09 Feb 2025) EndedAt: 2025-02-09 15:27:33 -0500 (Sun, 09 Feb 2025) EllapsedTime: 33.0 seconds RetCode: 0 Status: OK