Package: rebook Version: 1.17.0 Command: /home/biocbuild/R/R/bin/R CMD check --install=check:rebook.install-out.txt --library=/home/biocbuild/R/R/site-library --no-vignettes --timings rebook_1.17.0.tar.gz StartedAt: 2025-01-28 14:23:36 -0000 (Tue, 28 Jan 2025) EndedAt: 2025-01-28 14:25:55 -0000 (Tue, 28 Jan 2025) EllapsedTime: 139.2 seconds RetCode: 0 Status: WARNINGS CheckDir: rebook.Rcheck Warnings: 2