Package: rebook Version: 1.17.0 Command: /home/biocbuild/R/R/bin/R CMD INSTALL rebook StartedAt: 2025-01-29 20:07:10 -0000 (Wed, 29 Jan 2025) EndedAt: 2025-01-29 20:07:17 -0000 (Wed, 29 Jan 2025) EllapsedTime: 6.5 seconds RetCode: 0 Status: OK