Package: rebook Version: 1.17.0 Command: rm -rf rebook.buildbin-libdir && mkdir rebook.buildbin-libdir && /Users/biocbuild/BBS/utils/build-universal.sh rebook_1.17.0.tar.gz /Library/Frameworks/R.framework/Resources/bin/R rebook.buildbin-libdir StartedAt: 2025-02-10 01:11:05 -0500 (Mon, 10 Feb 2025) EndedAt: 2025-02-10 01:11:14 -0500 (Mon, 10 Feb 2025) EllapsedTime: 9.2 seconds RetCode: 0 Status: OK PackageFile: rebook_1.17.0.tgz PackageFileSize: 328.6 KiB