Package: rebook Version: 1.17.0 Command: /Library/Frameworks/R.framework/Resources/bin/R CMD build --keep-empty-dirs --no-resave-data rebook StartedAt: 2025-02-09 18:07:17 -0500 (Sun, 09 Feb 2025) EndedAt: 2025-02-09 18:07:41 -0500 (Sun, 09 Feb 2025) EllapsedTime: 24.0 seconds RetCode: 0 Status: OK PackageFile: rebook_1.17.0.tar.gz PackageFileSize: 262.6 KiB