Package: rebook Version: 1.17.0 Command: /Library/Frameworks/R.framework/Resources/bin/R CMD check --install=check:rebook.install-out.txt --library=/Library/Frameworks/R.framework/Resources/library --no-vignettes --timings rebook_1.17.0.tar.gz StartedAt: 2025-02-09 23:01:03 -0500 (Sun, 09 Feb 2025) EndedAt: 2025-02-09 23:03:37 -0500 (Sun, 09 Feb 2025) EllapsedTime: 154.9 seconds RetCode: 0 Status: WARNINGS CheckDir: rebook.Rcheck Warnings: 2