Package: rebook Version: 1.17.0 Command: /Library/Frameworks/R.framework/Resources/bin/R CMD INSTALL rebook StartedAt: 2025-02-09 15:25:54 -0500 (Sun, 09 Feb 2025) EndedAt: 2025-02-09 15:26:01 -0500 (Sun, 09 Feb 2025) EllapsedTime: 7.1 seconds RetCode: 0 Status: OK