Package: rebook Version: 1.17.0 Command: rm -rf rebook.buildbin-libdir && mkdir rebook.buildbin-libdir && E:\biocbuild\bbs-3.21-bioc\R\bin\R.exe CMD INSTALL --build --library=rebook.buildbin-libdir rebook_1.17.0.tar.gz StartedAt: 2025-02-10 08:30:50 -0500 (Mon, 10 Feb 2025) EndedAt: 2025-02-10 08:31:08 -0500 (Mon, 10 Feb 2025) EllapsedTime: 17.6 seconds RetCode: 0 Status: OK PackageFile: rebook_1.17.0.zip PackageFileSize: 335.1 KiB