Package: rebook Version: 1.17.0 Command: chmod a+r rebook -R && E:\biocbuild\bbs-3.21-bioc\R\bin\R.exe CMD build --keep-empty-dirs --no-resave-data rebook StartedAt: 2025-02-09 21:05:13 -0500 (Sun, 09 Feb 2025) EndedAt: 2025-02-09 21:06:08 -0500 (Sun, 09 Feb 2025) EllapsedTime: 54.7 seconds RetCode: 0 Status: OK PackageFile: rebook_1.17.0.tar.gz PackageFileSize: 262.8 KiB