Package: receptLoss Version: 1.19.0 Command: rm -rf receptLoss.buildbin-libdir && mkdir receptLoss.buildbin-libdir && /Users/biocbuild/BBS/utils/build-universal.sh receptLoss_1.19.0.tar.gz /Library/Frameworks/R.framework/Resources/bin/R receptLoss.buildbin-libdir StartedAt: 2025-02-09 22:26:59 -0500 (Sun, 09 Feb 2025) EndedAt: 2025-02-09 22:27:09 -0500 (Sun, 09 Feb 2025) EllapsedTime: 10.3 seconds RetCode: 0 Status: OK PackageFile: receptLoss_1.19.0.tgz PackageFileSize: 387 KiB