Package: receptLoss Version: 1.19.0 Command: /home/biocbuild/R/R/bin/R CMD build --keep-empty-dirs --no-resave-data receptLoss StartedAt: 2025-01-29 01:34:39 -0000 (Wed, 29 Jan 2025) EndedAt: 2025-01-29 01:35:20 -0000 (Wed, 29 Jan 2025) EllapsedTime: 41.0 seconds RetCode: 0 Status: OK PackageFile: receptLoss_1.19.0.tar.gz PackageFileSize: 705.8 KiB