Package: receptLoss Version: 1.19.0 Command: /Library/Frameworks/R.framework/Resources/bin/R CMD build --keep-empty-dirs --no-resave-data receptLoss StartedAt: 2025-02-03 18:04:25 -0500 (Mon, 03 Feb 2025) EndedAt: 2025-02-03 18:05:01 -0500 (Mon, 03 Feb 2025) EllapsedTime: 35.5 seconds RetCode: 0 Status: OK PackageFile: receptLoss_1.19.0.tar.gz PackageFileSize: 639.4 KiB