Package: receptLoss Version: 1.19.0 Command: /Library/Frameworks/R.framework/Resources/bin/R CMD check --install=check:receptLoss.install-out.txt --library=/Library/Frameworks/R.framework/Resources/library --no-vignettes --timings receptLoss_1.19.0.tar.gz StartedAt: 2025-02-03 22:45:30 -0500 (Mon, 03 Feb 2025) EndedAt: 2025-02-03 22:48:23 -0500 (Mon, 03 Feb 2025) EllapsedTime: 172.4 seconds RetCode: 0 Status: OK CheckDir: receptLoss.Rcheck Warnings: 0