Package: receptLoss Version: 1.19.0 Command: /Library/Frameworks/R.framework/Resources/bin/R CMD INSTALL receptLoss StartedAt: 2025-02-03 15:15:03 -0500 (Mon, 03 Feb 2025) EndedAt: 2025-02-03 15:15:31 -0500 (Mon, 03 Feb 2025) EllapsedTime: 28.2 seconds RetCode: 0 Status: OK